Package: survClust Version: 1.4.0 Command: /home/biocbuild/bbs-3.22-bioc/R/bin/R CMD INSTALL survClust StartedAt: 2025-11-20 16:11:13 -0500 (Thu, 20 Nov 2025) EndedAt: 2025-11-20 16:11:42 -0500 (Thu, 20 Nov 2025) EllapsedTime: 29.2 seconds RetCode: 0 Status: OK