Package: survClust Version: 1.4.0 Command: /home/biocbuild/bbs-3.22-bioc/R/bin/R CMD build --keep-empty-dirs --no-resave-data --md5 survClust StartedAt: 2025-11-20 21:15:14 -0500 (Thu, 20 Nov 2025) EndedAt: 2025-11-20 21:17:10 -0500 (Thu, 20 Nov 2025) EllapsedTime: 116.1 seconds RetCode: 0 Status: OK PackageFile: survClust_1.4.0.tar.gz PackageFileSize: 807.8 KiB