Package: subSeq Version: 1.40.0 Command: /Library/Frameworks/R.framework/Resources/bin/R CMD INSTALL subSeq StartedAt: 2025-11-10 15:07:42 -0500 (Mon, 10 Nov 2025) EndedAt: 2025-11-10 15:07:44 -0500 (Mon, 10 Nov 2025) EllapsedTime: 2.4 seconds RetCode: 0 Status: OK