Package: structToolbox Version: 1.21.0 Command: /home/biocbuild/R/R/bin/R CMD build --keep-empty-dirs --no-resave-data structToolbox StartedAt: 2025-10-21 03:34:01 -0000 (Tue, 21 Oct 2025) EndedAt: 2025-10-21 03:50:40 -0000 (Tue, 21 Oct 2025) EllapsedTime: 999.4 seconds RetCode: 0 Status: OK PackageFile: structToolbox_1.21.0.tar.gz PackageFileSize: 3.795 MiB