Package: structToolbox Version: 1.21.0 Command: /Library/Frameworks/R.framework/Resources/bin/R CMD INSTALL structToolbox StartedAt: 2025-10-24 15:38:45 -0400 (Fri, 24 Oct 2025) EndedAt: 2025-10-24 15:39:36 -0400 (Fri, 24 Oct 2025) EllapsedTime: 51.1 seconds RetCode: 0 Status: OK