Package: structToolbox Version: 1.21.0 Command: /Library/Frameworks/R.framework/Resources/bin/R CMD build --keep-empty-dirs --no-resave-data structToolbox StartedAt: 2025-10-24 17:54:40 -0400 (Fri, 24 Oct 2025) EndedAt: 2025-10-24 17:58:15 -0400 (Fri, 24 Oct 2025) EllapsedTime: 214.4 seconds RetCode: 0 Status: OK PackageFile: structToolbox_1.21.0.tar.gz PackageFileSize: 4.934 MiB