Package: struct Version: 1.22.0 Command: /Library/Frameworks/R.framework/Resources/bin/R CMD INSTALL struct StartedAt: 2025-11-03 15:33:47 -0500 (Mon, 03 Nov 2025) EndedAt: 2025-11-03 15:34:22 -0500 (Mon, 03 Nov 2025) EllapsedTime: 35.0 seconds RetCode: 0 Status: OK