Package: struct Version: 1.22.0 Command: /Library/Frameworks/R.framework/Resources/bin/R CMD build --keep-empty-dirs --no-resave-data struct StartedAt: 2025-11-03 19:00:19 -0500 (Mon, 03 Nov 2025) EndedAt: 2025-11-03 19:01:04 -0500 (Mon, 03 Nov 2025) EllapsedTime: 45.7 seconds RetCode: 0 Status: OK PackageFile: struct_1.22.0.tar.gz PackageFileSize: 604.3 KiB