Package: struct Version: 1.21.1 Command: /Library/Frameworks/R.framework/Resources/bin/R CMD INSTALL struct StartedAt: 2025-10-26 15:17:11 -0400 (Sun, 26 Oct 2025) EndedAt: 2025-10-26 15:17:22 -0400 (Sun, 26 Oct 2025) EllapsedTime: 10.7 seconds RetCode: 0 Status: OK