Package: struct Version: 1.21.1 Command: /Library/Frameworks/R.framework/Resources/bin/R CMD build --keep-empty-dirs --no-resave-data struct StartedAt: 2025-10-26 18:10:03 -0400 (Sun, 26 Oct 2025) EndedAt: 2025-10-26 18:10:20 -0400 (Sun, 26 Oct 2025) EllapsedTime: 17.2 seconds RetCode: 1 Status: ERROR PackageFile: None PackageFileSize: NA