Package: struct Version: 1.21.1 Command: rm -rf struct.buildbin-libdir && mkdir struct.buildbin-libdir && /Users/biocbuild/BBS/utils/build-universal.sh struct_1.21.1.tar.gz /Library/Frameworks/R.framework/Resources/bin/R struct.buildbin-libdir StartedAt: 2025-10-24 23:21:47 -0400 (Fri, 24 Oct 2025) EndedAt: 2025-10-24 23:21:58 -0400 (Fri, 24 Oct 2025) EllapsedTime: 11.3 seconds RetCode: 0 Status: OK PackageFile: struct_1.21.1.tgz PackageFileSize: 1.584 MiB