Package: strandCheckR Version: 1.28.0 Command: /home/biocbuild/bbs-3.22-bioc/R/bin/R CMD INSTALL strandCheckR StartedAt: 2025-11-14 15:57:00 -0500 (Fri, 14 Nov 2025) EndedAt: 2025-11-14 15:57:37 -0500 (Fri, 14 Nov 2025) EllapsedTime: 37.0 seconds RetCode: 0 Status: OK