Package: strandCheckR Version: 1.28.0 Command: /home/biocbuild/bbs-3.22-bioc/R/bin/R CMD build --keep-empty-dirs --no-resave-data --md5 strandCheckR StartedAt: 2025-11-14 20:30:41 -0500 (Fri, 14 Nov 2025) EndedAt: 2025-11-14 20:31:45 -0500 (Fri, 14 Nov 2025) EllapsedTime: 64.0 seconds RetCode: 0 Status: OK PackageFile: strandCheckR_1.28.0.tar.gz PackageFileSize: 1.225 MiB