Package: stepNorm Version: 1.81.0 Command: /home/biocbuild/bbs-3.22-bioc/R/bin/R CMD INSTALL stepNorm StartedAt: 2025-10-24 15:14:07 -0400 (Fri, 24 Oct 2025) EndedAt: 2025-10-24 15:14:27 -0400 (Fri, 24 Oct 2025) EllapsedTime: 19.8 seconds RetCode: 0 Status: OK