Package: standR Version: 1.14.0 Command: /home/biocbuild/bbs-3.22-bioc/R/bin/R CMD INSTALL standR StartedAt: 2025-11-06 15:54:41 -0500 (Thu, 06 Nov 2025) EndedAt: 2025-11-06 15:55:09 -0500 (Thu, 06 Nov 2025) EllapsedTime: 27.5 seconds RetCode: 0 Status: OK