Package: stPipe Version: 1.0.0 Command: /home/biocbuild/bbs-3.22-bioc/R/bin/R CMD INSTALL stPipe StartedAt: 2025-11-02 15:48:58 -0500 (Sun, 02 Nov 2025) EndedAt: 2025-11-02 15:49:50 -0500 (Sun, 02 Nov 2025) EllapsedTime: 51.5 seconds RetCode: 0 Status: OK