Package: ssviz Version: 1.43.0 Command: /home/biocbuild/bbs-3.22-bioc/R/bin/R CMD INSTALL ssviz StartedAt: 2025-10-27 15:18:57 -0400 (Mon, 27 Oct 2025) EndedAt: 2025-10-27 15:19:12 -0400 (Mon, 27 Oct 2025) EllapsedTime: 14.6 seconds RetCode: 0 Status: OK