Package: spkTools Version: 1.66.0 Command: /Library/Frameworks/R.framework/Resources/bin/R CMD INSTALL spkTools StartedAt: 2025-11-17 17:14:50 -0500 (Mon, 17 Nov 2025) EndedAt: 2025-11-17 17:15:00 -0500 (Mon, 17 Nov 2025) EllapsedTime: 9.8 seconds RetCode: 0 Status: OK