Package: spkTools Version: 1.66.0 Command: rm -rf spkTools.buildbin-libdir && mkdir spkTools.buildbin-libdir && /Users/biocbuild/BBS/utils/build-universal.sh spkTools_1.66.0.tar.gz /Library/Frameworks/R.framework/Resources/bin/R spkTools.buildbin-libdir StartedAt: 2025-11-18 18:40:33 -0500 (Tue, 18 Nov 2025) EndedAt: 2025-11-18 18:40:45 -0500 (Tue, 18 Nov 2025) EllapsedTime: 12.1 seconds RetCode: 0 Status: OK PackageFile: spkTools_1.66.0.tgz PackageFileSize: 840.5 KiB