Package: spkTools Version: 1.66.0 Command: /Library/Frameworks/R.framework/Resources/bin/R CMD build --keep-empty-dirs --no-resave-data spkTools StartedAt: 2025-11-18 01:23:48 -0500 (Tue, 18 Nov 2025) EndedAt: 2025-11-18 01:23:56 -0500 (Tue, 18 Nov 2025) EllapsedTime: 8.0 seconds RetCode: 0 Status: OK PackageFile: spkTools_1.66.0.tar.gz PackageFileSize: 664.4 KiB