Package: spikeLI Version: 2.70.0 Command: /home/biocbuild/bbs-3.22-bioc/R/bin/R CMD INSTALL spikeLI StartedAt: 2025-11-17 16:43:13 -0500 (Mon, 17 Nov 2025) EndedAt: 2025-11-17 16:43:15 -0500 (Mon, 17 Nov 2025) EllapsedTime: 1.7 seconds RetCode: 0 Status: OK