Package: speckle Version: 1.10.0 Command: /home/biocbuild/bbs-3.22-bioc/R/bin/R CMD INSTALL speckle StartedAt: 2025-11-14 15:25:18 -0500 (Fri, 14 Nov 2025) EndedAt: 2025-11-14 15:25:58 -0500 (Fri, 14 Nov 2025) EllapsedTime: 39.8 seconds RetCode: 0 Status: OK