Package: specL Version: 1.43.0 Command: /home/biocbuild/bbs-3.22-bioc/R/bin/R CMD build --keep-empty-dirs --no-resave-data --md5 specL StartedAt: 2025-10-24 20:23:41 -0400 (Fri, 24 Oct 2025) EndedAt: 2025-10-24 20:24:01 -0400 (Fri, 24 Oct 2025) EllapsedTime: 20.0 seconds RetCode: 0 Status: OK PackageFile: specL_1.43.0.tar.gz PackageFileSize: 2.084 MiB