Package: spatialSimGP Version: 1.3.0 Command: /Library/Frameworks/R.framework/Resources/bin/R CMD INSTALL spatialSimGP StartedAt: 2025-10-24 15:39:35 -0400 (Fri, 24 Oct 2025) EndedAt: 2025-10-24 15:40:06 -0400 (Fri, 24 Oct 2025) EllapsedTime: 31.5 seconds RetCode: 0 Status: OK