Package: spatialHeatmap Version: 2.16.0 Command: /Library/Frameworks/R.framework/Resources/bin/R CMD INSTALL spatialHeatmap StartedAt: 2025-11-02 15:37:22 -0500 (Sun, 02 Nov 2025) EndedAt: 2025-11-02 15:38:20 -0500 (Sun, 02 Nov 2025) EllapsedTime: 58.4 seconds RetCode: 0 Status: OK