Package: spatialHeatmap Version: 2.16.0 Command: /Library/Frameworks/R.framework/Resources/bin/R CMD build --keep-empty-dirs --no-resave-data spatialHeatmap StartedAt: 2025-11-02 18:56:15 -0500 (Sun, 02 Nov 2025) EndedAt: 2025-11-02 19:00:57 -0500 (Sun, 02 Nov 2025) EllapsedTime: 282.7 seconds RetCode: 1 Status: ERROR PackageFile: None PackageFileSize: NA