Package: spatialHeatmap Version: 2.15.2 Command: rm -rf spatialHeatmap.buildbin-libdir && mkdir spatialHeatmap.buildbin-libdir && /Users/biocbuild/BBS/utils/build-universal.sh spatialHeatmap_2.15.2.tar.gz /Library/Frameworks/R.framework/Resources/bin/R spatialHeatmap.buildbin-libdir StartedAt: 2025-10-29 02:00:45 -0400 (Wed, 29 Oct 2025) EndedAt: 2025-10-29 02:01:55 -0400 (Wed, 29 Oct 2025) EllapsedTime: 70.1 seconds RetCode: 0 Status: OK PackageFile: spatialHeatmap_2.15.2.tgz PackageFileSize: 34.76 MiB