Package: spatialHeatmap Version: 2.15.2 Command: /Library/Frameworks/R.framework/Resources/bin/R CMD INSTALL spatialHeatmap StartedAt: 2025-10-24 15:21:04 -0400 (Fri, 24 Oct 2025) EndedAt: 2025-10-24 15:21:21 -0400 (Fri, 24 Oct 2025) EllapsedTime: 17.1 seconds RetCode: 0 Status: OK