Package: spatialHeatmap Version: 2.15.2 Command: /Library/Frameworks/R.framework/Resources/bin/R CMD build --keep-empty-dirs --no-resave-data spatialHeatmap StartedAt: 2025-10-24 17:50:38 -0400 (Fri, 24 Oct 2025) EndedAt: 2025-10-24 17:52:40 -0400 (Fri, 24 Oct 2025) EllapsedTime: 122.4 seconds RetCode: 0 Status: OK PackageFile: spatialHeatmap_2.15.2.tar.gz PackageFileSize: 35.32 MiB