Package: spatialHeatmap Version: 2.15.2 Command: rm -rf spatialHeatmap.buildbin-libdir && mkdir spatialHeatmap.buildbin-libdir && /Users/biocbuild/BBS/utils/build-universal.sh spatialHeatmap_2.15.2.tar.gz /Library/Frameworks/R.framework/Resources/bin/R spatialHeatmap.buildbin-libdir StartedAt: 2025-10-24 23:21:04 -0400 (Fri, 24 Oct 2025) EndedAt: 2025-10-24 23:21:25 -0400 (Fri, 24 Oct 2025) EllapsedTime: 21.5 seconds RetCode: 0 Status: OK PackageFile: spatialHeatmap_2.15.2.tgz PackageFileSize: 35.07 MiB