Package: spatialHeatmap Version: 2.16.0 Maintainer: Jianhai Zhang MaintainerEmail: jzhan067 at ucr.edu git_url: https://git.bioconductor.org/packages/spatialHeatmap git_branch: RELEASE_3_22 git_last_commit: e3ad0e0 git_last_commit_date: 2025-10-29 11:02:59 -0500 (Wed, 29 Oct 2025)