Package: spatialFDA Version: 1.2.0 Command: /home/biocbuild/R/R/bin/R CMD INSTALL spatialFDA StartedAt: 2025-11-17 21:36:41 -0000 (Mon, 17 Nov 2025) EndedAt: 2025-11-17 21:37:26 -0000 (Mon, 17 Nov 2025) EllapsedTime: 45.0 seconds RetCode: 0 Status: OK