Package: spatialFDA Version: 1.2.0 Command: /home/biocbuild/R/R/bin/R CMD build --keep-empty-dirs --no-resave-data spatialFDA StartedAt: 2025-11-18 05:20:30 -0000 (Tue, 18 Nov 2025) EndedAt: 2025-11-18 05:28:38 -0000 (Tue, 18 Nov 2025) EllapsedTime: 488.2 seconds RetCode: 0 Status: OK PackageFile: spatialFDA_1.2.0.tar.gz PackageFileSize: 2.582 MiB