Package: spatialDE Version: 1.16.0 Command: /home/biocbuild/bbs-3.22-bioc/R/bin/R CMD build --keep-empty-dirs --no-resave-data --md5 spatialDE StartedAt: 2025-11-02 20:29:10 -0500 (Sun, 02 Nov 2025) EndedAt: 2025-11-02 20:30:55 -0500 (Sun, 02 Nov 2025) EllapsedTime: 105.1 seconds RetCode: 0 Status: OK PackageFile: spatialDE_1.16.0.tar.gz PackageFileSize: 3.713 MiB