Package: sparseMatrixStats Version: 1.21.0 Command: /home/biocbuild/R/R/bin/R CMD build --keep-empty-dirs --no-resave-data sparseMatrixStats StartedAt: 2025-10-21 03:19:49 -0000 (Tue, 21 Oct 2025) EndedAt: 2025-10-21 03:20:35 -0000 (Tue, 21 Oct 2025) EllapsedTime: 46.0 seconds RetCode: 0 Status: OK PackageFile: sparseMatrixStats_1.21.0.tar.gz PackageFileSize: 711 KiB