Package: sparseMatrixStats Version: 1.21.0 Command: /home/biocbuild/bbs-3.22-bioc/R/bin/R CMD INSTALL sparseMatrixStats StartedAt: 2025-10-24 15:15:33 -0400 (Fri, 24 Oct 2025) EndedAt: 2025-10-24 15:16:00 -0400 (Fri, 24 Oct 2025) EllapsedTime: 27.2 seconds RetCode: 0 Status: OK