Package: sparseMatrixStats Version: 1.21.0 Command: /home/biocbuild/bbs-3.22-bioc/R/bin/R CMD build --keep-empty-dirs --no-resave-data --md5 sparseMatrixStats StartedAt: 2025-10-24 20:21:27 -0400 (Fri, 24 Oct 2025) EndedAt: 2025-10-24 20:22:00 -0400 (Fri, 24 Oct 2025) EllapsedTime: 33.0 seconds RetCode: 0 Status: OK PackageFile: sparseMatrixStats_1.21.0.tar.gz PackageFileSize: 689.9 KiB