Package: sparseMatrixStats Version: 1.22.0 Command: /Library/Frameworks/R.framework/Resources/bin/R CMD INSTALL sparseMatrixStats StartedAt: 2025-11-17 16:54:47 -0500 (Mon, 17 Nov 2025) EndedAt: 2025-11-17 16:55:38 -0500 (Mon, 17 Nov 2025) EllapsedTime: 50.3 seconds RetCode: 0 Status: OK