Package: sparseMatrixStats Version: 1.22.0 Command: /Library/Frameworks/R.framework/Resources/bin/R CMD build --keep-empty-dirs --no-resave-data sparseMatrixStats StartedAt: 2025-11-18 02:27:46 -0500 (Tue, 18 Nov 2025) EndedAt: 2025-11-18 02:29:33 -0500 (Tue, 18 Nov 2025) EllapsedTime: 107.3 seconds RetCode: 0 Status: OK PackageFile: sparseMatrixStats_1.22.0.tar.gz PackageFileSize: 687.6 KiB