Package: sparseMatrixStats Version: 1.22.0 Command: rm -rf sparseMatrixStats.buildbin-libdir && mkdir sparseMatrixStats.buildbin-libdir && /Users/biocbuild/BBS/utils/build-universal.sh sparseMatrixStats_1.22.0.tar.gz /Library/Frameworks/R.framework/Resources/bin/R sparseMatrixStats.buildbin-libdir StartedAt: 2025-11-18 18:39:13 -0500 (Tue, 18 Nov 2025) EndedAt: 2025-11-18 18:40:07 -0500 (Tue, 18 Nov 2025) EllapsedTime: 54.6 seconds RetCode: 0 Status: OK PackageFile: sparseMatrixStats_1.22.0.tgz PackageFileSize: 1.146 MiB