Package: sparrow Version: 1.16.0 Command: /home/biocbuild/bbs-3.22-bioc/R/bin/R CMD build --keep-empty-dirs --no-resave-data --md5 sparrow StartedAt: 2025-11-02 20:27:49 -0500 (Sun, 02 Nov 2025) EndedAt: 2025-11-02 20:29:52 -0500 (Sun, 02 Nov 2025) EllapsedTime: 123.1 seconds RetCode: 0 Status: OK PackageFile: sparrow_1.16.0.tar.gz PackageFileSize: 4.145 MiB