Package: spacexr Version: 1.1.1 Command: /home/biocbuild/bbs-3.22-bioc/R/bin/R CMD INSTALL spacexr StartedAt: 2025-10-24 15:30:50 -0400 (Fri, 24 Oct 2025) EndedAt: 2025-10-24 15:31:19 -0400 (Fri, 24 Oct 2025) EllapsedTime: 28.9 seconds RetCode: 0 Status: OK