Package: spaSim Version: 1.12.0 Command: /home/biocbuild/bbs-3.22-bioc/R/bin/R CMD INSTALL spaSim StartedAt: 2025-11-06 15:34:06 -0500 (Thu, 06 Nov 2025) EndedAt: 2025-11-06 15:34:35 -0500 (Thu, 06 Nov 2025) EllapsedTime: 28.4 seconds RetCode: 0 Status: OK