Package: spaSim Version: 1.12.0 Command: /home/biocbuild/bbs-3.22-bioc/R/bin/R CMD build --keep-empty-dirs --no-resave-data --md5 spaSim StartedAt: 2025-11-06 20:13:31 -0500 (Thu, 06 Nov 2025) EndedAt: 2025-11-06 20:15:11 -0500 (Thu, 06 Nov 2025) EllapsedTime: 100.1 seconds RetCode: 0 Status: OK PackageFile: spaSim_1.12.0.tar.gz PackageFileSize: 3.551 MiB