Package: soGGi Version: 1.42.0 Command: /home/biocbuild/bbs-3.22-bioc/R/bin/R CMD build --keep-empty-dirs --no-resave-data --md5 soGGi StartedAt: 2025-11-06 20:10:59 -0500 (Thu, 06 Nov 2025) EndedAt: 2025-11-06 20:12:19 -0500 (Thu, 06 Nov 2025) EllapsedTime: 80.1 seconds RetCode: 0 Status: OK PackageFile: soGGi_1.42.0.tar.gz PackageFileSize: 3.37 MiB