Package: snm Version: 1.58.0 Command: /home/biocbuild/bbs-3.22-bioc/R/bin/R CMD build --keep-empty-dirs --no-resave-data --md5 snm StartedAt: 2025-11-06 20:10:37 -0500 (Thu, 06 Nov 2025) EndedAt: 2025-11-06 20:12:28 -0500 (Thu, 06 Nov 2025) EllapsedTime: 110.1 seconds RetCode: 0 Status: OK PackageFile: snm_1.58.0.tar.gz PackageFileSize: 729.5 KiB