Package: smoothclust Version: 1.5.7 Command: /home/biocbuild/bbs-3.22-bioc/R/bin/R CMD build --keep-empty-dirs --no-resave-data --md5 smoothclust StartedAt: 2025-10-24 20:18:17 -0400 (Fri, 24 Oct 2025) EndedAt: 2025-10-24 20:19:25 -0400 (Fri, 24 Oct 2025) EllapsedTime: 68.1 seconds RetCode: 0 Status: OK PackageFile: smoothclust_1.5.7.tar.gz PackageFileSize: 379.9 KiB