Package: smoothclust Version: 1.6.0 Command: /Library/Frameworks/R.framework/Resources/bin/R CMD INSTALL smoothclust StartedAt: 2025-11-03 15:32:08 -0500 (Mon, 03 Nov 2025) EndedAt: 2025-11-03 15:32:39 -0500 (Mon, 03 Nov 2025) EllapsedTime: 31.0 seconds RetCode: 0 Status: OK