Package: smoothclust Version: 1.6.0 Command: rm -rf smoothclust.buildbin-libdir && mkdir smoothclust.buildbin-libdir && /Users/biocbuild/BBS/utils/build-universal.sh smoothclust_1.6.0.tar.gz /Library/Frameworks/R.framework/Resources/bin/R smoothclust.buildbin-libdir StartedAt: 2025-11-04 02:05:21 -0500 (Tue, 04 Nov 2025) EndedAt: 2025-11-04 02:05:56 -0500 (Tue, 04 Nov 2025) EllapsedTime: 35.5 seconds RetCode: 0 Status: OK PackageFile: smoothclust_1.6.0.tgz PackageFileSize: 865.7 KiB