Package: smoothclust Version: 1.5.7 Command: /Library/Frameworks/R.framework/Resources/bin/R CMD build --keep-empty-dirs --no-resave-data smoothclust StartedAt: 2025-10-24 17:47:49 -0400 (Fri, 24 Oct 2025) EndedAt: 2025-10-24 17:48:19 -0400 (Fri, 24 Oct 2025) EllapsedTime: 30.3 seconds RetCode: 0 Status: OK PackageFile: smoothclust_1.5.7.tar.gz PackageFileSize: 853.9 KiB